BEGIN:VCALENDAR
VERSION:2.0
PRODID:-//SportsPilot + Clear Lake Boys Basketball/
METHOD:PUBLISH
BEGIN:VEVENT
UID:10410004
DTSTAMP:20260424T111000
SUMMARY: Game:10410004: Grizzlies VS Timberwolves
DESCRIPTION: Location: Spac / Space Center Intermediate Gym 1
DTSTART:20250111T113000
DTEND:20250111T124000
END:VEVENT
BEGIN:VEVENT
UID:10410007
DTSTAMP:20260424T111000
SUMMARY: Game:10410007: Timberwolves VS Rockets
DESCRIPTION: Location: Spac / Space Center Intermediate Gym 1
DTSTART:20250111T135000
DTEND:20250111T150000
END:VEVENT
BEGIN:VEVENT
UID:10410010
DTSTAMP:20260424T111000
SUMMARY: Game:10410010: Timberwolves VS Spurs
DESCRIPTION: Location: Spac / Space Center Intermediate Gym 1
DTSTART:20250118T103000
DTEND:20250118T114500
END:VEVENT
BEGIN:VEVENT
UID:10410015
DTSTAMP:20260424T111000
SUMMARY: Game:10410015: Timberwolves VS Jazz
DESCRIPTION: Location: Spac / Space Center Intermediate Gym 1
DTSTART:20250125T102000
DTEND:20250125T113000
END:VEVENT
BEGIN:VEVENT
UID:10410019
DTSTAMP:20260424T111000
SUMMARY: Game:10410019: Nets VS Timberwolves
DESCRIPTION: Location: Spac / Space Center Intermediate Gym 1
DTSTART:20250125T135000
DTEND:20250125T150000
END:VEVENT
BEGIN:VEVENT
UID:10410021
DTSTAMP:20260424T111000
SUMMARY: Game:10410021: Timberwolves VS Magic
DESCRIPTION: Location: Spac / Space Center Intermediate Gym 1
DTSTART:20250201T091500
DTEND:20250201T103000
END:VEVENT
BEGIN:VEVENT
UID:10410027
DTSTAMP:20260424T111000
SUMMARY: Game:10410027: Timberwolves VS Spurs
DESCRIPTION: Location: Spac / Space Center Intermediate Gym 1
DTSTART:20250208T102000
DTEND:20250208T113000
END:VEVENT
BEGIN:VEVENT
UID:10410030
DTSTAMP:20260424T111000
SUMMARY: Game:10410030: Grizzlies VS Timberwolves
DESCRIPTION: Location: Spac / Space Center Intermediate Gym 1
DTSTART:20250208T124000
DTEND:20250208T135000
END:VEVENT
BEGIN:VEVENT
UID:10410032
DTSTAMP:20260424T111000
SUMMARY: Game:10410032: Jazz VS Timberwolves
DESCRIPTION: Location: Spac / Space Center Intermediate Gym 1
DTSTART:20250215T080000
DTEND:20250215T091000
END:VEVENT
BEGIN:VEVENT
UID:10410034
DTSTAMP:20260424T111000
SUMMARY: Game:10410034: Magic VS Timberwolves
DESCRIPTION: Location: Spac / Space Center Intermediate Gym 1
DTSTART:20250215T102000
DTEND:20250215T113000
END:VEVENT
END:VCALENDAR
