BEGIN:VCALENDAR
VERSION:2.0
PRODID:-//SportsPilot + Clear Lake Boys Basketball/
METHOD:PUBLISH
BEGIN:VEVENT
UID:10410002
DTSTAMP:20260424T104900
SUMMARY: Game:10410002: Nets VS Magic
DESCRIPTION: Location: Spac / Space Center Intermediate Gym 1
DTSTART:20250111T091000
DTEND:20250111T102000
END:VEVENT
BEGIN:VEVENT
UID:10410005
DTSTAMP:20260424T104900
SUMMARY: Game:10410005: Spurs VS Nets
DESCRIPTION: Location: Spac / Space Center Intermediate Gym 2
DTSTART:20250111T123500
DTEND:20250111T134500
END:VEVENT
BEGIN:VEVENT
UID:10410009
DTSTAMP:20260424T104900
SUMMARY: Game:10410009: Jazz VS Nets
DESCRIPTION: Location: Spac / Space Center Intermediate Gym 1
DTSTART:20250118T091500
DTEND:20250118T103000
END:VEVENT
BEGIN:VEVENT
UID:10410014
DTSTAMP:20260424T104900
SUMMARY: Game:10410014: Grizzlies VS Nets
DESCRIPTION: Location: Spac / Space Center Intermediate Gym 1
DTSTART:20250125T091000
DTEND:20250125T102000
END:VEVENT
BEGIN:VEVENT
UID:10410019
DTSTAMP:20260424T104900
SUMMARY: Game:10410019: Nets VS Timberwolves
DESCRIPTION: Location: Spac / Space Center Intermediate Gym 1
DTSTART:20250125T135000
DTEND:20250125T150000
END:VEVENT
BEGIN:VEVENT
UID:10410020
DTSTAMP:20260424T104900
SUMMARY: Game:10410020: Rockets VS Nets
DESCRIPTION: Location: Spac / Space Center Intermediate Gym 1
DTSTART:20250201T080000
DTEND:20250201T091500
END:VEVENT
BEGIN:VEVENT
UID:10410023
DTSTAMP:20260424T104900
SUMMARY: Game:10410023: Nets VS Magic
DESCRIPTION: Location: Spac / Space Center Intermediate Gym 1
DTSTART:20250201T114500
DTEND:20250201T130000
END:VEVENT
BEGIN:VEVENT
UID:10410026
DTSTAMP:20260424T104900
SUMMARY: Game:10410026: Nets VS Grizzlies
DESCRIPTION: Location: Spac / Space Center Intermediate Gym 1
DTSTART:20250208T091000
DTEND:20250208T102000
END:VEVENT
BEGIN:VEVENT
UID:10410028
DTSTAMP:20260424T104900
SUMMARY: Game:10410028: Nets VS Rockets
DESCRIPTION: Location: Spac / Space Center Intermediate Gym 1
DTSTART:20250208T113000
DTEND:20250208T124000
END:VEVENT
BEGIN:VEVENT
UID:10410035
DTSTAMP:20260424T104900
SUMMARY: Game:10410035: Spurs VS Nets
DESCRIPTION: Location: Spac / Space Center Intermediate Gym 1
DTSTART:20250215T113000
DTEND:20250215T124000
END:VEVENT
END:VCALENDAR
