BEGIN:VCALENDAR
VERSION:2.0
PRODID:-//SportsPilot + Clear Lake Boys Basketball/
METHOD:PUBLISH
BEGIN:VEVENT
UID:10410003
DTSTAMP:20260424T105100
SUMMARY: Game:10410003: Rockets VS Spurs
DESCRIPTION: Location: Spac / Space Center Intermediate Gym 1
DTSTART:20250111T102000
DTEND:20250111T113000
END:VEVENT
BEGIN:VEVENT
UID:10410007
DTSTAMP:20260424T105100
SUMMARY: Game:10410007: Timberwolves VS Rockets
DESCRIPTION: Location: Spac / Space Center Intermediate Gym 1
DTSTART:20250111T135000
DTEND:20250111T150000
END:VEVENT
BEGIN:VEVENT
UID:10410011
DTSTAMP:20260424T105100
SUMMARY: Game:10410011: Grizzlies VS Rockets
DESCRIPTION: Location: Spac / Space Center Intermediate Gym 1
DTSTART:20250118T114500
DTEND:20250118T130000
END:VEVENT
BEGIN:VEVENT
UID:10410013
DTSTAMP:20260424T105100
SUMMARY: Game:10410013: Rockets VS Magic
DESCRIPTION: Location: Spac / Space Center Intermediate Gym 1
DTSTART:20250125T080000
DTEND:20250125T091000
END:VEVENT
BEGIN:VEVENT
UID:10410018
DTSTAMP:20260424T105100
SUMMARY: Game:10410018: Jazz VS Rockets
DESCRIPTION: Location: Spac / Space Center Intermediate Gym 1
DTSTART:20250125T124000
DTEND:20250125T135000
END:VEVENT
BEGIN:VEVENT
UID:10410020
DTSTAMP:20260424T105100
SUMMARY: Game:10410020: Rockets VS Nets
DESCRIPTION: Location: Spac / Space Center Intermediate Gym 1
DTSTART:20250201T080000
DTEND:20250201T091500
END:VEVENT
BEGIN:VEVENT
UID:10410024
DTSTAMP:20260424T105100
SUMMARY: Game:10410024: Spurs VS Rockets
DESCRIPTION: Location: Spac / Space Center Intermediate Gym 1
DTSTART:20250201T130000
DTEND:20250201T141500
END:VEVENT
BEGIN:VEVENT
UID:10410028
DTSTAMP:20260424T105100
SUMMARY: Game:10410028: Nets VS Rockets
DESCRIPTION: Location: Spac / Space Center Intermediate Gym 1
DTSTART:20250208T113000
DTEND:20250208T124000
END:VEVENT
BEGIN:VEVENT
UID:10410029
DTSTAMP:20260424T105100
SUMMARY: Game:10410029: Rockets VS Jazz
DESCRIPTION: Location: Spac / Space Center Intermediate Gym 1
DTSTART:20250208T135000
DTEND:20250208T150000
END:VEVENT
BEGIN:VEVENT
UID:10410033
DTSTAMP:20260424T105100
SUMMARY: Game:10410033: Rockets VS Grizzlies
DESCRIPTION: Location: Spac / Space Center Intermediate Gym 1
DTSTART:20250215T091000
DTEND:20250215T102000
END:VEVENT
END:VCALENDAR
