BEGIN:VCALENDAR
VERSION:2.0
PRODID:-//SportsPilot + Clear Lake Boys Basketball/
METHOD:PUBLISH
BEGIN:VEVENT
UID:10400001
DTSTAMP:20260424T104900
SUMMARY: Game:10400001: Heat VS Clippers
DESCRIPTION: Location: Spac / Space Center Intermediate Gym 2
DTSTART:20250111T101500
DTEND:20250111T112500
END:VEVENT
BEGIN:VEVENT
UID:10400004
DTSTAMP:20260424T104900
SUMMARY: Game:10400004: Clippers VS Rockets
DESCRIPTION: Location: Spac / Space Center Intermediate Gym 1
DTSTART:20250111T150000
DTEND:20250111T160000
END:VEVENT
BEGIN:VEVENT
UID:10400006
DTSTAMP:20260424T104900
SUMMARY: Game:10400006: Kings VS Clippers
DESCRIPTION: Location: Spac / Space Center Intermediate Gym 2
DTSTART:20250118T091500
DTEND:20250118T103000
END:VEVENT
BEGIN:VEVENT
UID:10400007
DTSTAMP:20260424T104900
SUMMARY: Game:10400007: Rockets VS Clippers
DESCRIPTION: Location: Spac / Space Center Intermediate Gym 2
DTSTART:20250125T101500
DTEND:20250125T112500
END:VEVENT
BEGIN:VEVENT
UID:10400010
DTSTAMP:20260424T104900
SUMMARY: Game:10400010: Clippers VS Heat
DESCRIPTION: Location: Spac / Space Center Intermediate Gym 1
DTSTART:20250125T150000
DTEND:20250125T160000
END:VEVENT
BEGIN:VEVENT
UID:10400011
DTSTAMP:20260424T104900
SUMMARY: Game:10400011: Clippers VS Kings
DESCRIPTION: Location: Spac / Space Center Intermediate Gym 2
DTSTART:20250201T080000
DTEND:20250201T091500
END:VEVENT
BEGIN:VEVENT
UID:10400014
DTSTAMP:20260424T104900
SUMMARY: Game:10400014: Heat VS Clippers
DESCRIPTION: Location: Spac / Space Center Intermediate Gym 2
DTSTART:20250208T101000
DTEND:20250208T112000
END:VEVENT
BEGIN:VEVENT
UID:10400015
DTSTAMP:20260424T104900
SUMMARY: Game:10400015: Clippers VS Rockets
DESCRIPTION: Location: Spac / Space Center Intermediate Gym 2
DTSTART:20250208T133500
DTEND:20250208T144500
END:VEVENT
BEGIN:VEVENT
UID:10400017
DTSTAMP:20260424T104900
SUMMARY: Game:10400017: Rockets VS Clippers
DESCRIPTION: Location: Spac / Space Center Intermediate Gym 2
DTSTART:20250215T080000
DTEND:20250215T091000
END:VEVENT
BEGIN:VEVENT
UID:10400019
DTSTAMP:20260424T104900
SUMMARY: Game:10400019: Clippers VS Kings
DESCRIPTION: Location: Spac / Space Center Intermediate Gym 2
DTSTART:20250215T111500
DTEND:20250215T122500
END:VEVENT
END:VCALENDAR
