BEGIN:VCALENDAR
VERSION:2.0
PRODID:-//SportsPilot + Clear Lake Boys Basketball/
METHOD:PUBLISH
BEGIN:VEVENT
UID:10400002
DTSTAMP:20260424T105000
SUMMARY: Game:10400002: Rockets VS Kings
DESCRIPTION: Location: Spac / Space Center Intermediate Gym 2
DTSTART:20250111T112500
DTEND:20250111T123500
END:VEVENT
BEGIN:VEVENT
UID:10400003
DTSTAMP:20260424T105000
SUMMARY: Game:10400003: Kings VS Heat
DESCRIPTION: Location: Spac / Space Center Intermediate Gym 2
DTSTART:20250111T134500
DTEND:20250111T145000
END:VEVENT
BEGIN:VEVENT
UID:10400006
DTSTAMP:20260424T105000
SUMMARY: Game:10400006: Kings VS Clippers
DESCRIPTION: Location: Spac / Space Center Intermediate Gym 2
DTSTART:20250118T091500
DTEND:20250118T103000
END:VEVENT
BEGIN:VEVENT
UID:10400008
DTSTAMP:20260424T105000
SUMMARY: Game:10400008: Heat VS Kings
DESCRIPTION: Location: Spac / Space Center Intermediate Gym 2
DTSTART:20250125T112500
DTEND:20250125T123500
END:VEVENT
BEGIN:VEVENT
UID:10400009
DTSTAMP:20260424T105000
SUMMARY: Game:10400009: Kings VS Rockets
DESCRIPTION: Location: Spac / Space Center Intermediate Gym 2
DTSTART:20250125T134500
DTEND:20250125T145000
END:VEVENT
BEGIN:VEVENT
UID:10400011
DTSTAMP:20260424T105000
SUMMARY: Game:10400011: Clippers VS Kings
DESCRIPTION: Location: Spac / Space Center Intermediate Gym 2
DTSTART:20250201T080000
DTEND:20250201T091500
END:VEVENT
BEGIN:VEVENT
UID:10400013
DTSTAMP:20260424T105000
SUMMARY: Game:10400013: Rockets VS Kings
DESCRIPTION: Location: Spac / Space Center Intermediate Gym 2
DTSTART:20250208T090000
DTEND:20250208T101000
END:VEVENT
BEGIN:VEVENT
UID:10400016
DTSTAMP:20260424T105000
SUMMARY: Game:10400016: Kings VS Heat
DESCRIPTION: Location: Spac / Space Center Intermediate Gym 1
DTSTART:20250208T150000
DTEND:20250208T160000
END:VEVENT
BEGIN:VEVENT
UID:10400018
DTSTAMP:20260424T105000
SUMMARY: Game:10400018: Kings VS Heat
DESCRIPTION: Location: Not Assigned
DTSTART:20250215T091000
DTEND:20250215T102000
END:VEVENT
BEGIN:VEVENT
UID:10400019
DTSTAMP:20260424T105000
SUMMARY: Game:10400019: Clippers VS Kings
DESCRIPTION: Location: Spac / Space Center Intermediate Gym 2
DTSTART:20250215T111500
DTEND:20250215T122500
END:VEVENT
END:VCALENDAR
