BEGIN:VCALENDAR
VERSION:2.0
PRODID:-//SportsPilot + Clear Lake Boys Basketball/
METHOD:PUBLISH
BEGIN:VEVENT
UID:10390002
DTSTAMP:20260424T110200
SUMMARY: Game:10390002: Jazz VS Heat
DESCRIPTION: Location: Spac / Space Center Intermediate Gym 2
DTSTART:20250111T091000
DTEND:20250111T101500
END:VEVENT
BEGIN:VEVENT
UID:10390006
DTSTAMP:20260424T110200
SUMMARY: Game:10390006: Heat VS Thunder
DESCRIPTION: Location: St. Bernadette Catholic Church / St Bernadette Gym
DTSTART:20250111T133000
DTEND:20250111T143000
END:VEVENT
BEGIN:VEVENT
UID:10390008
DTSTAMP:20260424T110200
SUMMARY: Game:10390008: Heat VS Clippers
DESCRIPTION: Location: Spac / Space Center Intermediate Gym 2
DTSTART:20250118T103000
DTEND:20250118T114500
END:VEVENT
BEGIN:VEVENT
UID:10390013
DTSTAMP:20260424T110200
SUMMARY: Game:10390013: Grizzlies VS Heat
DESCRIPTION: Location: Spac / Space Center Intermediate Gym 2
DTSTART:20250125T091000
DTEND:20250125T101500
END:VEVENT
BEGIN:VEVENT
UID:10390017
DTSTAMP:20260424T110200
SUMMARY: Game:10390017: Heat VS Spurs
DESCRIPTION: Location: St. Bernadette Catholic Church / St Bernadette Gym
DTSTART:20250125T133000
DTEND:20250125T143000
END:VEVENT
BEGIN:VEVENT
UID:10390022
DTSTAMP:20260424T110200
SUMMARY: Game:10390022: Magic VS Heat
DESCRIPTION: Location: Spac / Space Center Intermediate Gym 2
DTSTART:20250201T130000
DTEND:20250201T141500
END:VEVENT
BEGIN:VEVENT
UID:10390028
DTSTAMP:20260424T110200
SUMMARY: Game:10390028: Heat VS Rockets
DESCRIPTION: Location: Spac / Space Center Intermediate Gym 2
DTSTART:20250208T112000
DTEND:20250208T122000
END:VEVENT
BEGIN:VEVENT
UID:10390030
DTSTAMP:20260424T110200
SUMMARY: Game:10390030: Grizzlies VS Heat
DESCRIPTION: Location: St. Bernadette Catholic Church / St Bernadette Gym
DTSTART:20250208T130000
DTEND:20250208T140000
END:VEVENT
BEGIN:VEVENT
UID:10390032
DTSTAMP:20260424T110200
SUMMARY: Game:10390032: Spurs VS Heat
DESCRIPTION: Location: St. Bernadette Catholic Church / St Bernadette Gym
DTSTART:20250215T090000
DTEND:20250215T100000
END:VEVENT
BEGIN:VEVENT
UID:10390035
DTSTAMP:20260424T110200
SUMMARY: Game:10390035: Jazz VS Heat
DESCRIPTION: Location: Spac / Space Center Intermediate Gym 2
DTSTART:20250215T122500
DTEND:20250215T133500
END:VEVENT
END:VCALENDAR
