BEGIN:VCALENDAR
VERSION:2.0
PRODID:-//SportsPilot + Clear Lake Boys Basketball/
METHOD:PUBLISH
BEGIN:VEVENT
UID:10390003
DTSTAMP:20260424T105300
SUMMARY: Game:10390003: Thunder VS Spurs
DESCRIPTION: Location: St. Bernadette Catholic Church / St Bernadette Gym
DTSTART:20250111T103000
DTEND:20250111T113000
END:VEVENT
BEGIN:VEVENT
UID:10390007
DTSTAMP:20260424T105300
SUMMARY: Game:10390007: Spurs VS Jazz
DESCRIPTION: Location: St. Bernadette Catholic Church / St Bernadette Gym
DTSTART:20250111T143000
DTEND:20250111T153000
END:VEVENT
BEGIN:VEVENT
UID:10390010
DTSTAMP:20260424T105300
SUMMARY: Game:10390010: Spurs VS Magic
DESCRIPTION: Location: Spac / Space Center Intermediate Gym 2
DTSTART:20250118T130000
DTEND:20250118T141500
END:VEVENT
BEGIN:VEVENT
UID:10390014
DTSTAMP:20260424T105300
SUMMARY: Game:10390014: Spurs VS Rockets
DESCRIPTION: Location: St. Bernadette Catholic Church / St Bernadette Gym
DTSTART:20250125T103000
DTEND:20250125T113000
END:VEVENT
BEGIN:VEVENT
UID:10390017
DTSTAMP:20260424T105300
SUMMARY: Game:10390017: Heat VS Spurs
DESCRIPTION: Location: St. Bernadette Catholic Church / St Bernadette Gym
DTSTART:20250125T133000
DTEND:20250125T143000
END:VEVENT
BEGIN:VEVENT
UID:10390020
DTSTAMP:20260424T105300
SUMMARY: Game:10390020: Spurs VS Clippers
DESCRIPTION: Location: Spac / Space Center Intermediate Gym 2
DTSTART:20250201T103000
DTEND:20250201T114500
END:VEVENT
BEGIN:VEVENT
UID:10390025
DTSTAMP:20260424T105300
SUMMARY: Game:10390025: Rockets VS Spurs
DESCRIPTION: Location: St. Bernadette Catholic Church / St Bernadette Gym
DTSTART:20250208T090000
DTEND:20250208T100000
END:VEVENT
BEGIN:VEVENT
UID:10390027
DTSTAMP:20260424T105300
SUMMARY: Game:10390027: Grizzlies VS Spurs
DESCRIPTION: Location: St. Bernadette Catholic Church / St Bernadette Gym
DTSTART:20250208T110000
DTEND:20250208T120000
END:VEVENT
BEGIN:VEVENT
UID:10390032
DTSTAMP:20260424T105300
SUMMARY: Game:10390032: Spurs VS Heat
DESCRIPTION: Location: St. Bernadette Catholic Church / St Bernadette Gym
DTSTART:20250215T090000
DTEND:20250215T100000
END:VEVENT
BEGIN:VEVENT
UID:10390036
DTSTAMP:20260424T105300
SUMMARY: Game:10390036: Thunder VS Spurs
DESCRIPTION: Location: Spac / Space Center Intermediate Gym 2
DTSTART:20250215T133500
DTEND:20250215T144500
END:VEVENT
END:VCALENDAR
