BEGIN:VCALENDAR
VERSION:2.0
PRODID:-//SportsPilot + Clear Lake Boys Basketball/
METHOD:PUBLISH
BEGIN:VEVENT
UID:10390001
DTSTAMP:20260424T105400
SUMMARY: Game:10390001: Grizzlies VS Clippers
DESCRIPTION: Location: Spac / Space Center Intermediate Gym 2
DTSTART:20250111T080000
DTEND:20250111T091000
END:VEVENT
BEGIN:VEVENT
UID:10390005
DTSTAMP:20260424T105400
SUMMARY: Game:10390005: Clippers VS Rockets
DESCRIPTION: Location: St. Bernadette Catholic Church / St Bernadette Gym
DTSTART:20250111T123000
DTEND:20250111T133000
END:VEVENT
BEGIN:VEVENT
UID:10390008
DTSTAMP:20260424T105400
SUMMARY: Game:10390008: Heat VS Clippers
DESCRIPTION: Location: Spac / Space Center Intermediate Gym 2
DTSTART:20250118T103000
DTEND:20250118T114500
END:VEVENT
BEGIN:VEVENT
UID:10390012
DTSTAMP:20260424T105400
SUMMARY: Game:10390012: Clippers VS Jazz
DESCRIPTION: Location: Spac / Space Center Intermediate Gym 2
DTSTART:20250125T080000
DTEND:20250125T091000
END:VEVENT
BEGIN:VEVENT
UID:10390015
DTSTAMP:20260424T105400
SUMMARY: Game:10390015: Magic VS Clippers
DESCRIPTION: Location: St. Bernadette Catholic Church / St Bernadette Gym
DTSTART:20250125T113000
DTEND:20250125T123000
END:VEVENT
BEGIN:VEVENT
UID:10390020
DTSTAMP:20260424T105400
SUMMARY: Game:10390020: Spurs VS Clippers
DESCRIPTION: Location: Spac / Space Center Intermediate Gym 2
DTSTART:20250201T103000
DTEND:20250201T114500
END:VEVENT
BEGIN:VEVENT
UID:10390024
DTSTAMP:20260424T105400
SUMMARY: Game:10390024: Clippers VS Thunder
DESCRIPTION: Location: Spac / Space Center Intermediate Gym 2
DTSTART:20250208T080000
DTEND:20250208T090000
END:VEVENT
BEGIN:VEVENT
UID:10390031
DTSTAMP:20260424T105400
SUMMARY: Game:10390031: Clippers VS Jazz
DESCRIPTION: Location: Spac / Space Center Intermediate Gym 2
DTSTART:20250208T144500
DTEND:20250208T160000
END:VEVENT
BEGIN:VEVENT
UID:10390034
DTSTAMP:20260424T105400
SUMMARY: Game:10390034: Grizzlies VS Clippers
DESCRIPTION: Location: Spac / Space Center Intermediate Gym 2
DTSTART:20250215T101500
DTEND:20250215T111500
END:VEVENT
BEGIN:VEVENT
UID:10390038
DTSTAMP:20260424T105400
SUMMARY: Game:10390038: Clippers VS Magic
DESCRIPTION: Location: Spac / Space Center Intermediate Gym 2
DTSTART:20250215T144500
DTEND:20250215T160000
END:VEVENT
END:VCALENDAR
