BEGIN:VCALENDAR
VERSION:2.0
PRODID:-//SportsPilot + Clear Lake Boys Basketball/
METHOD:PUBLISH
BEGIN:VEVENT
UID:10390004
DTSTAMP:20260424T105400
SUMMARY: Game:10390004: Magic VS Grizzlies
DESCRIPTION: Location: St. Bernadette Catholic Church / St Bernadette Gym
DTSTART:20250111T113000
DTEND:20250111T123000
END:VEVENT
BEGIN:VEVENT
UID:10390040
DTSTAMP:20260424T105400
SUMMARY: Game:10390040: Rockets VS Magic
DESCRIPTION: Location: Spac / Space Center Intermediate Gym 2
DTSTART:20250111T145000
DTEND:20250111T160000
END:VEVENT
BEGIN:VEVENT
UID:10390010
DTSTAMP:20260424T105400
SUMMARY: Game:10390010: Spurs VS Magic
DESCRIPTION: Location: Spac / Space Center Intermediate Gym 2
DTSTART:20250118T130000
DTEND:20250118T141500
END:VEVENT
BEGIN:VEVENT
UID:10390015
DTSTAMP:20260424T105400
SUMMARY: Game:10390015: Magic VS Clippers
DESCRIPTION: Location: St. Bernadette Catholic Church / St Bernadette Gym
DTSTART:20250125T113000
DTEND:20250125T123000
END:VEVENT
BEGIN:VEVENT
UID:10390019
DTSTAMP:20260424T105400
SUMMARY: Game:10390019: Thunder VS Magic
DESCRIPTION: Location: Spac / Space Center Intermediate Gym 2
DTSTART:20250125T145000
DTEND:20250125T160000
END:VEVENT
BEGIN:VEVENT
UID:10390022
DTSTAMP:20260424T105400
SUMMARY: Game:10390022: Magic VS Heat
DESCRIPTION: Location: Spac / Space Center Intermediate Gym 2
DTSTART:20250201T130000
DTEND:20250201T141500
END:VEVENT
BEGIN:VEVENT
UID:10390026
DTSTAMP:20260424T105400
SUMMARY: Game:10390026: Jazz VS Magic
DESCRIPTION: Location: St. Bernadette Catholic Church / St Bernadette Gym
DTSTART:20250208T100000
DTEND:20250208T110000
END:VEVENT
BEGIN:VEVENT
UID:10390029
DTSTAMP:20260424T105400
SUMMARY: Game:10390029: Magic VS Thunder
DESCRIPTION: Location: St. Bernadette Catholic Church / St Bernadette Gym
DTSTART:20250208T120000
DTEND:20250208T130000
END:VEVENT
BEGIN:VEVENT
UID:10390037
DTSTAMP:20260424T105400
SUMMARY: Game:10390037: Rockets VS Magic
DESCRIPTION: Location: Spac / Space Center Intermediate Gym 1
DTSTART:20250215T135000
DTEND:20250215T150000
END:VEVENT
BEGIN:VEVENT
UID:10390038
DTSTAMP:20260424T105400
SUMMARY: Game:10390038: Clippers VS Magic
DESCRIPTION: Location: Spac / Space Center Intermediate Gym 2
DTSTART:20250215T144500
DTEND:20250215T160000
END:VEVENT
END:VCALENDAR
